BEGIN:VCALENDAR
VERSION:2.0
PRODID:-//Kalyon Live - ECPv6.14.0//NONSGML v1.0//EN
CALSCALE:GREGORIAN
METHOD:PUBLISH
X-WR-CALNAME:Kalyon Live
X-ORIGINAL-URL:https://www.kalyonlive.com
X-WR-CALDESC:Kalyon Live için etkinlikler
REFRESH-INTERVAL;VALUE=DURATION:PT1H
X-Robots-Tag:noindex
X-PUBLISHED-TTL:PT1H
BEGIN:VTIMEZONE
TZID:UTC
BEGIN:STANDARD
TZOFFSETFROM:+0000
TZOFFSETTO:+0000
TZNAME:UTC
DTSTART:20260101T000000
END:STANDARD
END:VTIMEZONE
BEGIN:VEVENT
DTSTART;TZID=UTC:20260429T210000
DTEND;TZID=UTC:20260429T210000
DTSTAMP:20260426T022919
CREATED:20260401T182200Z
LAST-MODIFIED:20260401T184929Z
UID:1695-1777496400-1777496400@www.kalyonlive.com
SUMMARY:Çelik
DESCRIPTION:
URL:https://www.kalyonlive.com/event/celik/
CATEGORIES:Yaklaşan Etkinlikler
ATTACH;FMTTYPE=image/jpeg:https://www.kalyonlive.com/wp-content/uploads/2026/04/CELIK.jpg
END:VEVENT
END:VCALENDAR