BEGIN:VCALENDAR
VERSION:2.0
PRODID:-//Kalyon Live - ECPv6.14.0//NONSGML v1.0//EN
CALSCALE:GREGORIAN
METHOD:PUBLISH
X-ORIGINAL-URL:https://www.kalyonlive.com
X-WR-CALDESC:Kalyon Live için etkinlikler
REFRESH-INTERVAL;VALUE=DURATION:PT1H
X-Robots-Tag:noindex
X-PUBLISHED-TTL:PT1H
BEGIN:VTIMEZONE
TZID:UTC
BEGIN:STANDARD
TZOFFSETFROM:+0000
TZOFFSETTO:+0000
TZNAME:UTC
DTSTART:20260101T000000
END:STANDARD
END:VTIMEZONE
BEGIN:VEVENT
DTSTART;TZID=UTC:20260503T210000
DTEND;TZID=UTC:20260503T210000
DTSTAMP:20260426T024235
CREATED:20260401T182321Z
LAST-MODIFIED:20260401T185025Z
UID:1698-1777842000-1777842000@www.kalyonlive.com
SUMMARY:Madrigal
DESCRIPTION:
URL:https://www.kalyonlive.com/event/madrigal/
CATEGORIES:Yaklaşan Etkinlikler
ATTACH;FMTTYPE=image/jpeg:https://www.kalyonlive.com/wp-content/uploads/2026/04/MADRIGAL.jpg
END:VEVENT
BEGIN:VEVENT
DTSTART;TZID=UTC:20260510T210000
DTEND;TZID=UTC:20260510T210000
DTSTAMP:20260426T024235
CREATED:20260401T182407Z
LAST-MODIFIED:20260401T184919Z
UID:1701-1778446800-1778446800@www.kalyonlive.com
SUMMARY:Zakkum
DESCRIPTION:
URL:https://www.kalyonlive.com/event/zakkum/
CATEGORIES:Yaklaşan Etkinlikler
ATTACH;FMTTYPE=image/jpeg:https://www.kalyonlive.com/wp-content/uploads/2026/04/ZAKKUM.jpg
END:VEVENT
BEGIN:VEVENT
DTSTART;TZID=UTC:20260517T210000
DTEND;TZID=UTC:20260517T210000
DTSTAMP:20260426T024235
CREATED:20260401T182457Z
LAST-MODIFIED:20260401T184915Z
UID:1704-1779051600-1779051600@www.kalyonlive.com
SUMMARY:Taladro
DESCRIPTION:
URL:https://www.kalyonlive.com/event/taladro/
CATEGORIES:Yaklaşan Etkinlikler
ATTACH;FMTTYPE=image/jpeg:https://www.kalyonlive.com/wp-content/uploads/2026/04/TALADRO.jpg
END:VEVENT
END:VCALENDAR